BEGIN:VCALENDAR
VERSION:2.0
PRODID:-//9/11 Tribute Museum - ECPv5.0.2.1//NONSGML v1.0//EN
CALSCALE:GREGORIAN
METHOD:PUBLISH
X-WR-CALNAME:9/11 Tribute Museum
X-ORIGINAL-URL:https://911tributemuseum.org
X-WR-CALDESC:Events for 9/11 Tribute Museum
BEGIN:VTIMEZONE
TZID:America/New_York
BEGIN:DAYLIGHT
TZOFFSETFROM:-0500
TZOFFSETTO:-0400
TZNAME:EDT
DTSTART:20180311T070000
END:DAYLIGHT
BEGIN:STANDARD
TZOFFSETFROM:-0400
TZOFFSETTO:-0500
TZNAME:EST
DTSTART:20181104T060000
END:STANDARD
END:VTIMEZONE
BEGIN:VEVENT
DTSTART;TZID=America/New_York:20180607T120000
DTEND;TZID=America/New_York:20180607T150000
DTSTAMP:20210904T062246
CREATED:20180607T150245Z
LAST-MODIFIED:20180613T152635Z
UID:1950-1528372800-1528383600@911tributemuseum.org
SUMMARY:Gallery Guide - Vic
DESCRIPTION:[vc_row][vc_column][mk_blockquote font_family=”none” font_size_combat=”true” text_size=”28″]I’m meeting people coming down and they tell me ‘Vic you are going the wrong way.’ I say ‘No\, I got people that are trapped up there and I need to get them out.’[/mk_blockquote][vc_column_text css=”.vc_custom_1528902059468{margin-bottom: 0px !important;}”]Vic Guarnera was the contract manager for security systems for the Port Authority of New York & New Jersey at the World Trade Center in both 1993 and 2001. He spent the morning of September 11th working to get people out in the safest ways possible; his knowledge and expertise of the inner workings of the buildings helped him to accomplish his mission. Instead of leaving the buildings\, Vic ran upstairs and\, with police officers and firefighters\, was able to help get more people safely out of the North Tower. Now\, Vic shares his story as a 9/11 Tribute Museum tour guide. \nBe sure to talk to Vic in our galleries this afternoon to share his 9/11 experiences and answer your questions.[/vc_column_text][mk_button dimension=”flat” corner_style=”rounded” size=”large” url=”https://fareharbor.com/embeds/book/tributewtc/items/46642/availability/53806748/book/?flow=4574″ fullwidth=”true” margin_top=”60″ margin_bottom=”60″ margin_right=”0″ btn_hover_bg=”#3d4045″ btn_hover_txt_color=”#ffffff”]Get Your Museum Tickets[/mk_button][/vc_column][/vc_row]\n
URL:https://911tributemuseum.org/event/gallery-guide-vic-6-7-2018/
LOCATION:9/11 Tribute Museum\, 92 Greenwich Street\, New York\, NY\, 10006\, United States
CATEGORIES:My 9/11 Story
ORGANIZER;CN="9%2F11%20Tribute%20Museum":MAILTO:info@911tributemuseum.org
END:VEVENT
END:VCALENDAR