BEGIN:VCALENDAR
VERSION:2.0
PRODID:-//9/11 Tribute Museum - ECPv5.0.2.1//NONSGML v1.0//EN
CALSCALE:GREGORIAN
METHOD:PUBLISH
X-WR-CALNAME:9/11 Tribute Museum
X-ORIGINAL-URL:https://911tributemuseum.org
X-WR-CALDESC:Events for 9/11 Tribute Museum
BEGIN:VTIMEZONE
TZID:America/New_York
BEGIN:DAYLIGHT
TZOFFSETFROM:-0500
TZOFFSETTO:-0400
TZNAME:EDT
DTSTART:20180311T070000
END:DAYLIGHT
BEGIN:STANDARD
TZOFFSETFROM:-0400
TZOFFSETTO:-0500
TZNAME:EST
DTSTART:20181104T060000
END:STANDARD
END:VTIMEZONE
BEGIN:VEVENT
DTSTART;TZID=America/New_York:20180605T160000
DTEND;TZID=America/New_York:20180605T180000
DTSTAMP:20210904T062247
CREATED:20180531T210428Z
LAST-MODIFIED:20180531T210512Z
UID:1925-1528214400-1528221600@911tributemuseum.org
SUMMARY:Monthly Happy Hour at Suspenders Restaurant & Bar
DESCRIPTION:\n\n\n\n\nJoin volunteers\, staff and friends of the 9/11 Tribute Museum for the first of a series of monthly happy hours where a portion of the proceeds will be donated to Tribute.   \nThe event will take place at Suspenders Restaurant & Bar\, which is celebrating its 30th anniversary this year.  Started by four members of the FDNY\, the original Suspenders location on Broadway closed in 2014 but reopened in its current Greenwich Street location and has been welcoming back many of the same customers to their favorite neighborhood hangout. Having weathered both the 1993 bombing of the World Trade Center and the September 11th attacks\, Suspenders is an important part of the fabric of both the local community and area small businesses.  \nYou will be supporting both Suspenders and the 9/11 Tribute Museum with these monthly events and ensuring future generations will never forget. So stop by\, mingle with old friends and make some news ones\, all while supporting a good cause! \n\n\n\n\n\n
URL:https://911tributemuseum.org/event/monthly-happy-hour-at-suspenders-6-5-2018/
LOCATION:Suspenders Resturant & Bar\, 108 Greenwich Street\, New York\, NY\, 10006\, United States
ATTACH;FMTTYPE=image/jpeg:https://3znvnpy5ek52a26m01me9p1t-wpengine.netdna-ssl.com/wp-content/uploads/2018/05/af1qipmf-urcun1hek5ff5pds8o8pocklbmxczx7ut6ys1536.jpg
ORGANIZER;CN="9%2F11%20Tribute%20Museum":MAILTO:info@911tributemuseum.org
END:VEVENT
END:VCALENDAR