BEGIN:VCALENDAR
VERSION:2.0
PRODID:-//9/11 Tribute Museum - ECPv5.0.2.1//NONSGML v1.0//EN
CALSCALE:GREGORIAN
METHOD:PUBLISH
X-WR-CALNAME:9/11 Tribute Museum
X-ORIGINAL-URL:https://911tributemuseum.org
X-WR-CALDESC:Events for 9/11 Tribute Museum
BEGIN:VTIMEZONE
TZID:America/New_York
BEGIN:DAYLIGHT
TZOFFSETFROM:-0500
TZOFFSETTO:-0400
TZNAME:EDT
DTSTART:20180311T070000
END:DAYLIGHT
BEGIN:STANDARD
TZOFFSETFROM:-0400
TZOFFSETTO:-0500
TZNAME:EST
DTSTART:20181104T060000
END:STANDARD
END:VTIMEZONE
BEGIN:VEVENT
DTSTART;VALUE=DATE:20180718
DTEND;VALUE=DATE:20180719
DTSTAMP:20210904T062019
CREATED:20180718T161848Z
LAST-MODIFIED:20180718T163537Z
UID:2046-1531872000-1531958399@911tributemuseum.org
SUMMARY:My 9/11 Story
DESCRIPTION:[vc_row][vc_column][vc_column_text css=”.vc_custom_1531930712697{margin-bottom: 0px !important;}”]You’ll hear from Vic\, who help evacuate others from One World Trade Center when began appearing in the lobby\, and Pat\, who used her role in social services to help countless others after 9/11\, all afternoon for our My 9/11 Story presentations.[/vc_column_text][mk_button dimension=”flat” corner_style=”rounded” size=”large” url=”https://fareharbor.com/embeds/book/tributewtc/items/46642/availability/53806782/book/?flow=4574″ fullwidth=”true” margin_top=”60″ margin_bottom=”60″ margin_right=”0″ btn_hover_bg=”#3d4045″ btn_hover_txt_color=”#ffffff”]Get Your Museum Tickets[/mk_button][/vc_column][/vc_row]\n
URL:https://911tributemuseum.org/event/my-911-story-bob-6-15-2018-2/
LOCATION:9/11 Tribute Museum\, 92 Greenwich Street\, New York\, NY\, 10006\, United States
CATEGORIES:My 9/11 Story
ATTACH;FMTTYPE=image/jpeg:https://3znvnpy5ek52a26m01me9p1t-wpengine.netdna-ssl.com/wp-content/uploads/2017/07/img_9272.jpg
ORGANIZER;CN="9%2F11%20Tribute%20Museum":MAILTO:info@911tributemuseum.org
END:VEVENT
END:VCALENDAR