BEGIN:VCALENDAR
VERSION:2.0
PRODID:-//9/11 Tribute Museum - ECPv5.0.2.1//NONSGML v1.0//EN
CALSCALE:GREGORIAN
METHOD:PUBLISH
X-WR-CALNAME:9/11 Tribute Museum
X-ORIGINAL-URL:https://911tributemuseum.org
X-WR-CALDESC:Events for 9/11 Tribute Museum
BEGIN:VTIMEZONE
TZID:America/New_York
BEGIN:DAYLIGHT
TZOFFSETFROM:-0500
TZOFFSETTO:-0400
TZNAME:EDT
DTSTART:20180311T070000
END:DAYLIGHT
BEGIN:STANDARD
TZOFFSETFROM:-0400
TZOFFSETTO:-0500
TZNAME:EST
DTSTART:20181104T060000
END:STANDARD
END:VTIMEZONE
BEGIN:VEVENT
DTSTART;TZID=America/New_York:20180615T120000
DTEND;TZID=America/New_York:20180615T123000
DTSTAMP:20210904T062239
CREATED:20180613T150832Z
LAST-MODIFIED:20180613T150925Z
UID:1951-1529064000-1529065800@911tributemuseum.org
SUMMARY:My 9/11 Story with Bob
DESCRIPTION:[vc_row][vc_column][mk_blockquote font_family=”none” font_size_combat=”true” text_size=”28″]In January 2002 I started my recovery efforts with the FDNY. I would also be looking for my friend Eddie Day who died on September 11\, 2001… My job was to search through the debris with grapplers\, rakes\, and shovels. There was a lot of dust in the air\, it was in our eyes and mouth. There was no way of getting around it.[/mk_blockquote][vc_column_text css=”.vc_custom_1528902563669{margin-bottom: 0px !important;}”]You’ll hear from Bob\, a retired New York City Fire Department Lieutenant who was off duty on 9/11 but responded and worked the recovery with hundreds of his FDNY brothers\, for this afternoon’s My 9/11 Story.[/vc_column_text][mk_button dimension=”flat” corner_style=”rounded” size=”large” url=”https://fareharbor.com/embeds/book/tributewtc/items/46642/availability/53806749/book/?flow=4574″ fullwidth=”true” margin_top=”60″ margin_bottom=”60″ margin_right=”0″ btn_hover_bg=”#3d4045″ btn_hover_txt_color=”#ffffff”]Get Your Museum Tickets[/mk_button][/vc_column][/vc_row]\n
URL:https://911tributemuseum.org/event/my-911-story-bob-6-15-2018/
LOCATION:9/11 Tribute Museum\, 92 Greenwich Street\, New York\, NY\, 10006\, United States
CATEGORIES:My 9/11 Story
ORGANIZER;CN="9%2F11%20Tribute%20Museum":MAILTO:info@911tributemuseum.org
END:VEVENT
END:VCALENDAR