BEGIN:VCALENDAR
VERSION:2.0
PRODID:-//9/11 Tribute Museum - ECPv5.0.2.1//NONSGML v1.0//EN
CALSCALE:GREGORIAN
METHOD:PUBLISH
X-WR-CALNAME:9/11 Tribute Museum
X-ORIGINAL-URL:https://911tributemuseum.org
X-WR-CALDESC:Events for 9/11 Tribute Museum
BEGIN:VTIMEZONE
TZID:America/New_York
BEGIN:DAYLIGHT
TZOFFSETFROM:-0500
TZOFFSETTO:-0400
TZNAME:EDT
DTSTART:20180311T070000
END:DAYLIGHT
BEGIN:STANDARD
TZOFFSETFROM:-0400
TZOFFSETTO:-0500
TZNAME:EST
DTSTART:20181104T060000
END:STANDARD
END:VTIMEZONE
BEGIN:VEVENT
DTSTART;TZID=America/New_York:20180619T160000
DTEND;TZID=America/New_York:20180619T200000
DTSTAMP:20210904T062027
CREATED:20180607T214445Z
LAST-MODIFIED:20180607T214446Z
UID:1934-1529424000-1529438400@911tributemuseum.org
SUMMARY:Night At The Museums
DESCRIPTION:
URL:https://911tributemuseum.org/event/night-at-the-museums-2018/
LOCATION:9/11 Tribute Museum\, 92 Greenwich Street\, New York\, NY\, 10006\, United States
ATTACH;FMTTYPE=image/jpeg:https://3znvnpy5ek52a26m01me9p1t-wpengine.netdna-ssl.com/wp-content/uploads/2018/06/nmai_natm-2018_3000x2000_v2.jpg
ORGANIZER;CN="9%2F11%20Tribute%20Museum":MAILTO:info@911tributemuseum.org
END:VEVENT
END:VCALENDAR