BEGIN:VCALENDAR
VERSION:2.0
PRODID:-//9/11 Tribute Museum - ECPv5.0.2.1//NONSGML v1.0//EN
CALSCALE:GREGORIAN
METHOD:PUBLISH
X-WR-CALNAME:9/11 Tribute Museum
X-ORIGINAL-URL:https://911tributemuseum.org
X-WR-CALDESC:Events for 9/11 Tribute Museum
BEGIN:VTIMEZONE
TZID:America/New_York
BEGIN:DAYLIGHT
TZOFFSETFROM:-0500
TZOFFSETTO:-0400
TZNAME:EDT
DTSTART:20180311T070000
END:DAYLIGHT
BEGIN:STANDARD
TZOFFSETFROM:-0400
TZOFFSETTO:-0500
TZNAME:EST
DTSTART:20181104T060000
END:STANDARD
END:VTIMEZONE
BEGIN:VEVENT
DTSTART;TZID=America/New_York:20180606T150000
DTEND;TZID=America/New_York:20180606T160000
DTSTAMP:20210904T062244
CREATED:20180531T184632Z
LAST-MODIFIED:20180531T210730Z
UID:1917-1528297200-1528300800@911tributemuseum.org
SUMMARY:We Were There
DESCRIPTION:[vc_row css=”.vc_custom_1527792548378{padding-top: 60px !important;padding-bottom: 60px !important;}”][vc_column][vc_column_text]The 9/11 Tribute Museum\, an official partner of the 9/11 Memorial Museum\, presents We Were There\, a weekly public program featuring two 9/11 Tribute Museum volunteer guides sharing their compelling and poignant personal stories in the Memorial Museum auditorium. \nThis week\, you’ll hear powerful stories from family members Ann and Julie. \nA 9/11 Tribute Museum moderator sets the historic context for each of the stories and connects them to artifacts and issues that the visitors may experience in the Memorial Museum\, transforming history from something abstract and distant to something that is close to each listener’s experience. The program closes with an opportunity for the audience to discuss and reflect on the stories. \nHoward Milstein/Emigrant Bank is the proud sponsor of the We Were There Program.[/vc_column_text][/vc_column][/vc_row]\n
URL:https://911tributemuseum.org/event/we-were-there-6-6-2018/
LOCATION:9/11 Memorial & Museum\, 180 Greenwich Street\, New York\, NY\, 10007\, United States
CATEGORIES:We Were There
ATTACH;FMTTYPE=image/jpeg:https://3znvnpy5ek52a26m01me9p1t-wpengine.netdna-ssl.com/wp-content/uploads/2018/05/we-were-there-promo.jpg
ORGANIZER;CN="9%2F11%20Tribute%20Museum":MAILTO:info@911tributemuseum.org
END:VEVENT
END:VCALENDAR